BEGIN:VCALENDAR
VERSION:2.0
PRODID:-//Great River Children&#039;s Museum - ECPv6.15.20//NONSGML v1.0//EN
CALSCALE:GREGORIAN
METHOD:PUBLISH
X-WR-CALNAME:Great River Children&#039;s Museum
X-ORIGINAL-URL:https://greatrivercm.org
X-WR-CALDESC:Events for Great River Children&#039;s Museum
REFRESH-INTERVAL;VALUE=DURATION:PT1H
X-Robots-Tag:noindex
X-PUBLISHED-TTL:PT1H
BEGIN:VTIMEZONE
TZID:UTC
BEGIN:STANDARD
TZOFFSETFROM:+0000
TZOFFSETTO:+0000
TZNAME:UTC
DTSTART:20250101T000000
END:STANDARD
END:VTIMEZONE
BEGIN:VEVENT
DTSTART;TZID=UTC:20260503T090000
DTEND;TZID=UTC:20260509T170000
DTSTAMP:20260421T052645
CREATED:20260415T193118Z
LAST-MODIFIED:20260415T193118Z
UID:7049-1777798800-1778346000@greatrivercm.org
SUMMARY:Children's Mental Health Awareness Week
DESCRIPTION:
URL:https://greatrivercm.org/event/childrens-mental-health-awareness-week/
END:VEVENT
END:VCALENDAR