BEGIN:VCALENDAR
VERSION:2.0
PRODID:-//Great River Children&#039;s Museum - ECPv6.15.20//NONSGML v1.0//EN
CALSCALE:GREGORIAN
METHOD:PUBLISH
X-WR-CALNAME:Great River Children&#039;s Museum
X-ORIGINAL-URL:https://greatrivercm.org
X-WR-CALDESC:Events for Great River Children&#039;s Museum
REFRESH-INTERVAL;VALUE=DURATION:PT1H
X-Robots-Tag:noindex
X-PUBLISHED-TTL:PT1H
BEGIN:VTIMEZONE
TZID:UTC
BEGIN:STANDARD
TZOFFSETFROM:+0000
TZOFFSETTO:+0000
TZNAME:UTC
DTSTART:20250101T000000
END:STANDARD
END:VTIMEZONE
BEGIN:VEVENT
DTSTART;TZID=UTC:20260503T093000
DTEND;TZID=UTC:20260503T123000
DTSTAMP:20260421T053733
CREATED:20260415T192958Z
LAST-MODIFIED:20260415T192958Z
UID:7048-1777800600-1777811400@greatrivercm.org
SUMMARY:Healing Through Play
DESCRIPTION:
URL:https://greatrivercm.org/event/healing-through-play/
LOCATION:Great River Children’s Museum\, 110 8th Avenue South\, Saint Cloud\, MN\, 56301\, United States
END:VEVENT
END:VCALENDAR